BEGIN:VCALENDAR
METHOD:PUBLISH
VERSION:2.0
PRODID:-//Eventilla iCal Syndication//NONSGML Liana//EN
BEGIN:VEVENT
UID:zWA7B@eventilla.com
DTSTAMP:20241118T090000Z
DTSTART:20241118T090000Z
DTEND:20241118T100000Z
SUMMARY:Let's Talk Morocco!
DESCRIPTION:Join us in a reading circle\, held at Qatar National Library as part of the Qatar-Morocco Year of Culture celebrations\, to discuss and learn about various aspects of Morocco\, including its history\, art\, food\, culture\, and more.\nYou can borrow any book about Morocco and its culture from the Library's collection. Choose an interesting chapter for discussion during the session\, or simply attend and enjoy exchanging knowledge.\n Date: 18 November 2024 \nTime: 12:00 - 1:00 PM\nLanguage: Arabic \nTarget Audience: Adults \nSeats are limited\, please click the button below to register.\n 
LOCATION:Auditorium\, Qatar National Library, Education City, Al Luqta
 St\, Doha\, Qatar
URL:http://events.qnl.qa/event/zWA7B
END:VEVENT
END:VCALENDAR
