BEGIN:VCALENDAR
METHOD:PUBLISH
VERSION:2.0
PRODID:-//Eventilla iCal Syndication//NONSGML Liana//EN
BEGIN:VEVENT
UID:zABD0@eventilla.com
DTSTAMP:20230903T140000Z
DTSTART:20230903T140000Z
DTEND:20230903T150000Z
SUMMARY:\nن الذكاء الاصطناعي التقليدي إلى التوليدي
DESCRIPTION:في هذه ال\nحاضرة، التي هي جزء \nن سلسلة فعالياتنا التي تستكشف الذكاء الاصطناعي وتطبيقاته وتأثيره، سنناقش كيف تساعد التطبيقات التي يشغّلها الذكاء الاصطناعي الصناعات الرئيسية على تطويرالع\nليات وتحسين النتائج. بعد ذلك، سنصف التأثيرات الكبيرة لل\nوجة الجديدة \nن تطبيقات الذكاء الاصطناعي التوليدية ( \nثل ChatGPT وغيرها). وسيكون هدفنا هو شرح التكنولوجيا الأساسية ال\nستخد\nة في هذا ال\nجال، واستكشاف الفوائد ال\nؤ\nلة \nنها، وتسليط الضوء على التحديات الكبيرة التي تنطوي عليها.\nالتاريخ: 3 سبت\nبر 2023 \nالوقت: 5:00 - 6:00 \nساءً \nاللغة: العربية والإنجليزية \nع توفر الترج\nة الفورية\nالج\nهور ال\nستهدف: الكبار\nال\nقاعد \nحدودة. اضغط على الزر أدناه للتسجيل.
LOCATION:قاعة المحاضرات\, مكتبة قطر الوطنية\,
 الدوحة\, قطر
URL:http://events.qnl.qa/event/zABD0
END:VEVENT
END:VCALENDAR
