BEGIN:VCALENDAR
METHOD:PUBLISH
VERSION:2.0
PRODID:-//Eventilla iCal Syndication//NONSGML Liana//EN
BEGIN:VEVENT
UID:y6y7J@eventilla.com
DTSTAMP:20250511T140000Z
DTSTART:20250511T140000Z
DTEND:20250511T150000Z
SUMMARY:Librarians for Libraries: An Introduction to Power BI
DESCRIPTION:Qatar National Library\, as the IFLA MENA Regional Office\, invites you to the "Librarians for Libraries" program\, which aims to develop librarianship skills in the MENA region through virtual sessions covering a variety of topics. This session introduces librarians to the fundamentals of Power BI and highlights its significance as a powerful data visualization and business intelligence tool.\nParticipants will gain insights into the practical applications of Power BI within library environments\, including how it can support data-driven decision-making\, enhance reporting capabilities and streamline operations.\nJoin us to explore how Power BI can empower librarians to harness data effectively and drive innovation in library services.\nThe event will be conducted online via Zoom. \nDate: 11 May 2025\nTime: 5:00 - 6:00 PM\nLanguage: English\nTarget Audience: Librarians\nSeats are limited\, please click the button below to register.
LOCATION:Online via Zoom
URL:http://events.qnl.qa/event/y6y7J
END:VEVENT
END:VCALENDAR
