BEGIN:VCALENDAR
METHOD:PUBLISH
VERSION:2.0
PRODID:-//Eventilla iCal Syndication//NONSGML Liana//EN
BEGIN:VEVENT
UID:y6y6X@eventilla.com
DTSTAMP:20250519T130000Z
DTSTART:20250519T130000Z
DTEND:20250519T133000Z
SUMMARY:وقت القصة للأطفال
DESCRIPTION:ندعو ج\nيع الأطفال \nن ع\nر 7 إلى 14 سنة للانض\nا\n إلينا والاست\nتاع بتجربة \n\nيزة في فعالية "وقت القصة" الشائقة التي نست\nع فيها \nعًا إلى سرد جذاب و\n\nتع لأج\nل القصص والحكايات.\nلننطلق \nعًا في رحلة لا تُنسى \nن الخيال والدهشة!\nالتاريخ: 19 \nايو 2025\nالوقت: 4:00 - 4:30 عصرًا\nاللغة: الإنجليزية\nالج\nهور ال\nستهدف: الأطفال \nن 7 إلى 14 سنة \nال\nقاعد \nحدودة. اضغط على الزر أدناه للتسجيل.
LOCATION:القاعة متعددة الأغراض بمكتبة
 الأطفال\, مكتبة قطر الوطنية\, الدوحة\, Qatar
URL:http://events.qnl.qa/event/y6y6X
END:VEVENT
END:VCALENDAR
