BEGIN:VCALENDAR
METHOD:PUBLISH
VERSION:2.0
PRODID:-//Eventilla iCal Syndication//NONSGML Liana//EN
BEGIN:VEVENT
UID:xrLkq@eventilla.com
DTSTAMP:20190419T140000Z
DTSTART:20190419T140000Z
DTEND:20190419T150000Z
SUMMARY:Guitar For Beginners: Tips and Resources to Get You Started
DESCRIPTION:Are you interested in learning how to play the guitar? This workshop will help you get started. Participants will be introduced to the different types of guitars available in the Library’s music studio\, as well as to the guitar sheet music and instruction books available in the print collection.\nAn experienced guitarist will demonstrate basic playing techniques and finger exercises. Participants are welcome to bring their own instrument.\nDate: 19 April 2019 \nTime: 5:00 – 6:00 PM\nLanguage: English \nTarget Audience: General public \nSeats are limited\, please click the button below to register.
LOCATION:Innovation Station 2\, Qatar National Library, Education City\,
 Doha\, Qatar
URL:http://events.qnl.qa/event/xrLkq
END:VEVENT
END:VCALENDAR
