BEGIN:VCALENDAR
METHOD:PUBLISH
VERSION:2.0
PRODID:-//Eventilla iCal Syndication//NONSGML Liana//EN
BEGIN:VEVENT
UID:xdK8A@eventilla.com
DTSTAMP:20210116T130000Z
DTSTART:20210116T130000Z
DTEND:20210116T140000Z
SUMMARY:Make your Own Game Using Minecraft
DESCRIPTION:Participants will explore and understand the basics of Minecraft and its creative possibilities\, including some models built using the game. The workshop will be conducted online via Microsoft Teams. \nDate: 16 January 2021\nTime: 4:00 – 5:00 PM\nLanguage: English\nTarget Audience: Ages 12 – 18\nSeats are limited. To register\, please click the button below.
LOCATION:Online via Microsoft Teams
URL:http://events.qnl.qa/minecraftjan2021
END:VEVENT
END:VCALENDAR
