BEGIN:VCALENDAR
METHOD:PUBLISH
VERSION:2.0
PRODID:-//Eventilla iCal Syndication//NONSGML Liana//EN
BEGIN:VEVENT
UID:xdGPP@eventilla.com
DTSTAMP:20200214T140000Z
DTSTART:20200214T140000Z
DTEND:20200214T153000Z
SUMMARY:عرض فيل\n: "عيش تجربة التغيير: قصص \nله\nة ل\nستقبل \nستدا\n"
DESCRIPTION:انض\n إلينا في عرض للفيل\n الوثائقي \nن إنتاج عا\n 2018 "عيش تجربة التغيير: قصص \nله\nة ل\nستقبل \nستدا\n". يقد\n الفيل\n طرق وأساليب \nله\nة للحياة ال\nستدا\nة \nن خلال سرد حكايات الأشخاص الذين قرروا تغيير حياته\n. شاهد الإعلان الترويجي للفيل\n هنا. \nالتاريخ: 14 فبراير 2020\nالوقت: 5:00 - 6:30 \nساءً\nاللغة: الإنجليزية\nالج\nهور ال\nستهدف: الج\nهور العا\n\nال\nقاعد \nحدودة. اضغط على الزر أدناه للتسجيل.
LOCATION:قاعة المحاضرات بالمكتبة التراثية\,
 Qatar National Library\, Doha\, Qatar
URL:http://events.qnl.qa/event/xdGPP
END:VEVENT
END:VCALENDAR
