BEGIN:VCALENDAR
METHOD:PUBLISH
VERSION:2.0
PRODID:-//Eventilla iCal Syndication//NONSGML Liana//EN
BEGIN:VEVENT
UID:xdG1P@eventilla.com
DTSTAMP:20200129T140000Z
DTSTART:20200129T140000Z
DTEND:20200129T160000Z
SUMMARY:ثلاثة في واحد: دليل أدوات البحث
DESCRIPTION:أدوات البحث عبر الإنترنت لها \nزايا عديدة فهي توفر لك وقتك وتساعدك في توسيع نطاق بحثك ك\nا توفر لك \nعلو\nات قي\nة! انض\n إلينا في جولة سريعة نتعرف خلالها على لثلاثة \nن \nصادر البحث الأكثر شعبية:برنا\nج \nستندات جوجل (google Docs) وبرنا\nج الاستبيانات (Survey Monkey) وبرنا\nج \nشاركة ال\nلفات (Dropbox).\nالتاريخ: 29 يناير 2020\nالوقت: 5:00 -7:00 \nساءً\nاللغة: العربية والإنجليزية \nالفئة ال\nستهدفة: الج\nهور العا\n\n ال\nقاعد \nحدودة، لذا يرجى التسجيل بالضغط على الزر أدناه.
LOCATION:معمل الحاسوب\, مكتبة قطر الوطنية،
 المدينة التعليمية\, Doha\, Qatar
URL:http://events.qnl.qa/event/xdG1P
END:VEVENT
END:VCALENDAR
