BEGIN:VCALENDAR
METHOD:PUBLISH
VERSION:2.0
PRODID:-//Eventilla iCal Syndication//NONSGML Liana//EN
BEGIN:VEVENT
UID:xYPq9@eventilla.com
DTSTAMP:20181103T150000Z
DTSTART:20181103T150000Z
DTEND:20181103T160000Z
SUMMARY:Fyodor Dostoyevsky: A Journey Through His Works
DESCRIPTION:Fyodor Dostoyevsky is one of the best-known Russian writers\, author of classics such as Crime and Punishment\, The Brothers Karamazov and Notes From the Underground. Samer Karroum\, a translator at Al Jazeera Media Network\, will take us on a journey through Dostoyevsky's life and work. \nDate: 3 November 2018\nTime: 6:00 – 7:00 PM\nLanguage: Arabic\nTarget Audience: Public\n \nSeats are limited. To register\, please click the button below.
LOCATION:Auditorium\, Qatar National Library, Education City\, Doha\,
 Qatar
URL:http://events.qnl.qa/fyodordostoyevsky-nov18
END:VEVENT
END:VCALENDAR
