BEGIN:VCALENDAR
METHOD:PUBLISH
VERSION:2.0
PRODID:-//Eventilla iCal Syndication//NONSGML Liana//EN
BEGIN:VEVENT
UID:xY4p9@eventilla.com
DTSTAMP:20201122T130000Z
DTSTART:20201122T130000Z
DTEND:20201124T150000Z
SUMMARY:Training Course in Combating Art Trafficking
DESCRIPTION:The Library\, as the IFLA Preservation and Conservation Regional Center for Arab Countries and the Middle East\, is offering a training course to help fight art trafficking. This event is part of the Himaya project; for more information on Himaya\, click here.\nThis training session will include:\n\nAn introduction to the international and regional legal frameworks regarding the circulation of art and cultural goods\nAn overview of the due diligence to be observed by actors in the art and heritage world in order to limit the risks related to looted works of art\nCase studies of art restitution to illustrate the issues related to art trafficking and the necessity of carrying out reliable due diligence.\n\nThe training will be provided by Sydney Chiche-Attali\, an intellectual property and art lawyer in Paris. And moderated by Maxim Nasra\, Book Conservation Specialist\, Qatar National Library.\nThe event will be conducted online via VoiceBoxer. Participants will receive attendance certificates from the Library.\nDate: 22 – 24 November 2020\nTime: 4:00 – 6:00 PM\nLanguage: Arabic and English\nTarget Audience: Specialists in protecting documentary heritage \nThe number of spots is limited; to register\, please contact qnlpac@qnl.qa. 
LOCATION:Online via VoiceBoxer
URL:http://events.qnl.qa/event/xY4p9
END:VEVENT
END:VCALENDAR
