BEGIN:VCALENDAR
METHOD:PUBLISH
VERSION:2.0
PRODID:-//Eventilla iCal Syndication//NONSGML Liana//EN
BEGIN:VEVENT
UID:xPkdk@eventilla.com
DTSTAMP:20191005T100000Z
DTSTART:20191005T100000Z
DTEND:20191005T120000Z
SUMMARY:Fun With Robotics
DESCRIPTION:Enjoy infotainment sessions on getting started with robotics\, coding and the internet of things. This hands-on program lets participants code robots using drag-and-drop functionality. After a brief introduction\, solve a daily life issue using problem-solving methods in robotics. The program will enable participants to address the issue using collaboration\, creativity\, critical thinking\, communication and complex problem-solving. \nParticipants registering to this program will need to attend all the sessions Every Saturday during October\, 1:00 – 3:00 PM.\nThere will be a mini-challenge day on 2 November for you to show off your creation to everyone!\nDate: Every Saturday during October\nTime: 1:00 – 3:00 PM\nLanguage: English\nTarget Audience: Young adults ages 10 – 17\nSeats are limited\, please click the button below to register.
LOCATION:Main Plaza\, Qatar National Library, Education City\, Doha\,
 Qatar
URL:http://events.qnl.qa/event/xPkdk
END:VEVENT
END:VCALENDAR
