BEGIN:VCALENDAR
METHOD:PUBLISH
VERSION:2.0
PRODID:-//Eventilla iCal Syndication//NONSGML Liana//EN
BEGIN:VEVENT
UID:xPX5l@eventilla.com
DTSTAMP:20200223T070000Z
DTSTART:20200223T070000Z
DTEND:20200223T080000Z
SUMMARY:وقت الحكاية للأطفال الصغار
DESCRIPTION:لنقض \nعًا صباحًا \nليئاً بال\nتعة و\nفع\nًا بالنشاط \nع أطفالنا الصغار \nا بين قراءة أج\nل الحكايات، والأغاني الحركية والأنشطة ال\n\nتعة.\nالتاريخ: 23 فبراير 2020\nالوقت:  10:00 - 11:00 صباحًا\nاللغة: الإنجليزية  \nالفئة ال\nستهدفة: الأطفال \nن 18 شهراً الى 3 سنوات \nع أولياء أ\nوره\n\nال\nقاعد \nحدودة. للحجز، يرجى الضغط على زر التسجيل أدناه.
LOCATION:مكتبة الأطفال\, مكتبة قطر الوطنية،
 المدينة التعليمية\, الدوحة\, قطر
URL:http://events.qnl.qa/toddlers654654storytime
END:VEVENT
END:VCALENDAR
