BEGIN:VCALENDAR
METHOD:PUBLISH
VERSION:2.0
PRODID:-//Eventilla iCal Syndication//NONSGML Liana//EN
BEGIN:VEVENT
UID:xOe4l@eventilla.com
DTSTAMP:20200711T100000Z
DTSTART:20200711T100000Z
DTEND:20200711T110000Z
SUMMARY:Steps for Creating a Science Project
DESCRIPTION:In this workshop\, middle school students will learn the basic skills they need and the steps they should follow to create school science projects. The session will be led by Ryan Noleal\, a science and technology curriculum coordinator. This event will be held online via Microsoft Teams. \nDate: 11 July 2020\nTime: 1:00 – 2:00 PM\nLanguage: English\nTarget Audience:  Ages 11 – 14\nSeats are limited\, please click the button below to register.
LOCATION:Online via Microsoft Teams Platform
URL:http://events.qnl.qa/stepscience
END:VEVENT
END:VCALENDAR
