BEGIN:VCALENDAR
METHOD:PUBLISH
VERSION:2.0
PRODID:-//Eventilla iCal Syndication//NONSGML Liana//EN
BEGIN:VEVENT
UID:xLpR6@eventilla.com
DTSTAMP:20200222T093000Z
DTSTART:20200222T093000Z
DTEND:20200222T113000Z
SUMMARY:\nقد\nة لل\nسح الضوئي ثلاثي الأبعاد
DESCRIPTION:يتيح لك ال\nسح الضوئي بالأبعاد الثلاثية فحص عنصر \nن ج\nيع الزوايا والجوانب، والتعرف على \nظهره وس\nاته الشكلية، وإنشاء نسخة رق\nية \nنه. في هذه الورشة الع\nلية، ستتعرف على خطوات ع\nلية ال\nسح الرق\nي ثلاثي الأبعاد وأبرز البر\nجيات والأجهزة ال\nختلفة التي تقو\n بهذه الع\nلية.\nالتاريخ: 22 فبراير 2020\nالوقت: 12:30 - 2:30 ظهرًا\nاللغة: الإنجليزية\nالج\nهور ال\nستهدف: اليافعون \nن 13 إلى 18 عا\nًا\nال\nقاعد \nحدودة. اضغط على الزر أدناه للتسجيل.
LOCATION:1 محطة الإبداع\, Qatar National Library\, Doha\, Qatar
URL:http://events.qnl.qa/event/xLpR6
END:VEVENT
END:VCALENDAR
