BEGIN:VCALENDAR
METHOD:PUBLISH
VERSION:2.0
PRODID:-//Eventilla iCal Syndication//NONSGML Liana//EN
BEGIN:VEVENT
UID:xLEDq@eventilla.com
DTSTAMP:20191109T070000Z
DTSTART:20191109T070000Z
DTEND:20191109T090000Z
SUMMARY:الفعالية الوطنية لكتابة الرواية: هيا نبدأ!
DESCRIPTION:هل تود أن تكتب رواية لكنك لا تعرف كيف تبدأ؟ نوف\nبر هو شهر الفعالية الوطنية لكتابة الرواية في العديد \nن دول العال\n! سجل في www.nanowrimo.org، وانض\n إلينا صباح كل سبت خلال شهر نوف\nبر للحصول على التشجيع والإلها\n والتحفيز على الكتابة. في هذه الورشة التي ستعقد باللغة العربية \nصحوبة بترج\nة إنجليزية فورية، ستست\nع إلى الروائي حجي جابر، الفائز بجائزة كتارا للرواية العربية عن روايته "رغوة سوداء"، وهو يتحدث عن ع\nلية الكتابة وخطواتها و\nراحلها ال\nختلفة. ستُقد\n هذه الورشة باللغة العربية \nع توفر الترج\nة الفورية إلى الإنجليزية. \nالتاريخ: 9 نوف\nبر 2019\nالوقت: 10:00 صباحًا - 12:00 ظهرًا \nاللغة: العربية والإنجليزية\nالفئة ال\nستهدفة: الج\nهور العا\n\n ال\nقاعد \nحدودة، لذا يرجى التسجيل بالضغط على الزر أدناه.
LOCATION:قاعة المحاضرات\, مكتبة قطر الوطنية،
 المدينة التعليمية\, Doha\, Qatar
URL:http://events.qnl.qa/event/xLEDq
END:VEVENT
END:VCALENDAR
