BEGIN:VCALENDAR
METHOD:PUBLISH
VERSION:2.0
PRODID:-//Eventilla iCal Syndication//NONSGML Liana//EN
BEGIN:VEVENT
UID:xL7E6@eventilla.com
DTSTAMP:20181029T140000Z
DTSTART:20181029T140000Z
DTEND:20181029T150000Z
SUMMARY:How To Stream Music And Watch Concert Performances
DESCRIPTION:With your Library membership\, you can listen to music and watch recorded concert performances from the QNL Online Resources. We’ll introduce you to Naxos Music Library\, Naxos Music Library Jazz\, Naxos Music Library World and Naxos Video Library\, and show you how to search for music on these platforms.\nDate: 29 October 2018\nTime: 5:00 PM - 6:00 PM\nLanguage: English\nTarget Audience: General public\nSeats are limited. To register\, please click the button below.
LOCATION:Computer Lab 1\, Qatar National Library, Education City\, Doha\,
 Qatar
URL:http://events.qnl.qa/stream_music_concert
END:VEVENT
END:VCALENDAR
