BEGIN:VCALENDAR
METHOD:PUBLISH
VERSION:2.0
PRODID:-//Eventilla iCal Syndication//NONSGML Liana//EN
BEGIN:VEVENT
UID:xEkEK@eventilla.com
DTSTAMP:20201016T110000Z
DTSTART:20201016T110000Z
DTEND:20201030T120000Z
SUMMARY:Brilliant Me and My Feelings
DESCRIPTION:Teach your children valuable life skills at your kitchen table in this free interactive and engaging online session developed specifically for children ages 5 to 7.\nEvery session is packed with engaging content and calming tools to help your child build confidence and resilience and develop a growth mindset in an interactive\, serious and fun way.\nThis session is brought to you by the UK-based Role Models Online Life Skills Courses (www.rolemodels.me) for children. These courses focus on helping children to deal with anxiety\, build their confidence and nurture a positive outlook.\nThe session will be conducted online via Zoom. The sessions are the same\, so please register for one only. \nDate:\n1st session: 16 October 2020\n2nd session: 30 October 2020 \nTime: 2:00 – 3:00 PM \nLanguage: English\nTarget Audience: Children ages 5 – 7 \nTo register\, please click the link below:\nhttps://forms.gle/4DNwAPuo73QQEGcg9 
LOCATION:Online Via Zoom
URL:http://events.qnl.qa/brilliantme
END:VEVENT
END:VCALENDAR
