BEGIN:VCALENDAR
METHOD:PUBLISH
VERSION:2.0
PRODID:-//Eventilla iCal Syndication//NONSGML Liana//EN
BEGIN:VEVENT
UID:xE5BM@eventilla.com
DTSTAMP:20210707T140000Z
DTSTART:20210707T140000Z
DTEND:20210707T143000Z
SUMMARY:Healthy Recipes in Under an Hour
DESCRIPTION:Parents can find quickly preparing healthy lunch meals a challenging daily task. Join us for an Instagram Live workshop with Rasha Esbitan\, who will show how to prepare a special healthy spicy chipotle pasta dish in record time. Everyone is welcome to this event\, including beginners and those who wish to learn the art of cooking. And don't forget to browse the cookbooks available on our electronic resources!\nThe session will be conducted online via Instagram Live (QNL_engage).\nTo join\, click on the link below:\nhttps://www.instagram.com/qnl_engage/\nDate: 7 July 2021 \nTime: 5:00 – 5:30 PM \nLanguage: Arabic \nTarget Audience: General public \nThis is an open event; RSVP is not required
LOCATION:Online via Instagram Live (QNL_engage)
URL:http://events.qnl.qa/event/xE5BM
END:VEVENT
END:VCALENDAR
