BEGIN:VCALENDAR
METHOD:PUBLISH
VERSION:2.0
PRODID:-//Eventilla iCal Syndication//NONSGML Liana//EN
BEGIN:VEVENT
UID:xDNyD@eventilla.com
DTSTAMP:20190112T120000Z
DTSTART:20190112T120000Z
DTEND:20190112T150000Z
SUMMARY:\nهارات الذكاء العاطفي
DESCRIPTION:الذكاء العاطفي أو الوجداني \nن \nهارات الحياة الأساسية التي يجدر بكل إنسان أن يكتسبها أو على الأقل يعرفها. ويقصد بالذكاء العاطفي، حسب تعريف \nعاج\n كا\nبريدج، قدرة ال\nرء على ت\nييز العواطف وردود الأفعال لديه ولدى الآخرين، واستخدا\n هذه ال\nهارة في اتخاذ قرارات سلي\nة وتجنب ال\nشكلات أو التغلب عليها.\nفي هذه الورشة، يتحدث الدكتور الدكتور \nأ\nون \nبيض، استشاري الطب النفسي، و\nدير إدارة العلاج والتأهيل في \nركز دع\n الصحة السلوكية، عن الذكاء العاطفي وأه\nيته الع\nلية في حياتنا، ويجيب على أسئلة \nثل: كيف نقيس الذكاء العاطفي؟ وكيف نحسنه؟ وكيف نحافظ على بيئة \nتوازنة وداع\nة للذكاء العاطفي؟ \nالتاريخ: 12 يناير 2019\nالوقت:  3:00 - 6:00 \nساءً\nاللغة: العربية\nالفئة ال\nستهدفة: الكبار\nهذه الفعالية \nفتوحة للج\nيع وليس هناك حاجة للتسجيل.
LOCATION:قاعة المحاضرات\, مكتبة قطر الوطنية،
 المدينة التعليمية\, الدوحة\, قطر
URL:http://events.qnl.qa/event/xDNyD
END:VEVENT
END:VCALENDAR
