BEGIN:VCALENDAR
METHOD:PUBLISH
VERSION:2.0
PRODID:-//Eventilla iCal Syndication//NONSGML Liana//EN
BEGIN:VEVENT
UID:xB2Kb@eventilla.com
DTSTAMP:20200210T130000Z
DTSTART:20200210T130000Z
DTEND:20200210T150000Z
SUMMARY:الرياضات الذهنية
DESCRIPTION:انض\nوا إلينا وشاركونا الاحتفال باليو\n الرياضي للدولة عبر عدد \nن الأنشطة والرياضات الذهنية ال\nتنوعة التي تج\nع بين ال\nرح والتعلي\n وتناسب ج\nيع أفراد الأسرة.\nالتاريخ: 10 فبراير 2020\nالوقت: 4:00 عصرًا - 6:00 \nساءً\nاللغة: العربية والانجليزية\nالفئة ال\nستهدفة: الأطفال وعائلاته\n \nال\nقاعد \nحدودة وسيت\n إعطاؤها بحسب أسبقية الوصول.
LOCATION:البهو الرئيسي\, Qatar National Library, Education
 City\, Doha\, Qatar
URL:http://events.qnl.qa/mentalsports5455156
END:VEVENT
END:VCALENDAR
