BEGIN:VCALENDAR
METHOD:PUBLISH
VERSION:2.0
PRODID:-//Eventilla iCal Syndication//NONSGML Liana//EN
BEGIN:VEVENT
UID:x5pKp@eventilla.com
DTSTAMP:20200225T143000Z
DTSTART:20200225T143000Z
DTEND:20200225T153000Z
SUMMARY:The Indian Navy and the Mapping of the Gulf\, 1612 – 1947: Talk & Exhibition Tour
DESCRIPTION:This lecture by the Library's Director of Historical Research\, Dr. James Onley\, will explore the history of the Indian Navy's involvement in the Gulf since 1612 and its role in the mapping of the shores of Eastern Arabia during the 1760s – 1860s. The talk will be followed by a guided tour of the "Qatar India & the Gulf" exhibition at the Library. For more about the exhibition\, click here.\nDate: 25 February 2020\nTime: 5:30 – 6:30 PM\nLanguage: Arabic and English \nTarget Audience: General public \nThis is an open event; RSVP is not required
LOCATION:Auditorium\, Qatar National Library, Education City\, Doha\,
 Qatar
URL:http://events.qnl.qa/event/x5pKp
END:VEVENT
END:VCALENDAR
