BEGIN:VCALENDAR
METHOD:PUBLISH
VERSION:2.0
PRODID:-//Eventilla iCal Syndication//NONSGML Liana//EN
BEGIN:VEVENT
UID:wJoMa@eventilla.com
DTSTAMP:20230831T210000Z
DTSTART:20230831T210000Z
DTEND:20230929T210000Z
SUMMARY:Our September AI-Themed Events
DESCRIPTION:Join us this month at Qatar National Library to dive into the fascinating world of artificial intelligence (AI). Discover how AI can enhance your daily life\, work\, and studies through engaging events and discussions. Don't miss this chance to explore the endless possibilities of AI with us!\nSunday\, 3 Sep (13:00 - 14:30): Chat Smarter: Academic Writing with ChatGPT\nWe invite university students to this session where we will discuss the ethical use of ChatGPT in academic writing and research. It’ll include practical exercises in effective prompt writing\, and a reflection on the importance of fact-checking. This will be an interactive session with time for questions and discussion. Please note that it is important that you are up-to-date about the policies in your academic context on the use of ChatGPT. [Register here]\nSunday\, 3 Sep (17:00 - 18:00): From Traditional to Generative AI\nIn this lecture\, which is part of a series of events exploring artificial inteligence\, its applications and impact\, we will disucss how AI-Driven applications are helping major industries optimize operations and enhance outcomes. Then\, we will describe the transformative effects of the new wave of generative AI applications (ChatGPT and others). Our goal would be to explain the underlying technology\, explore the potential benefits\, and highlight the critical challenges involved. [Register here]\nTuesday\, 5 Sep (10:00 - 12:00): Creative Uses of Artificial Intelligence in Education\nThe Science Book Forum (SBF) of the Library is making a return with this event! Here\, we will delve into innovative applications of AI in education\, ranging from intelligent tutoring systems to adaptive learning platforms and virtual reality simulations. [Register here]\nWednesday 6 Sep (17:00 - 18:00): Artificial Intelligence and Religious Values: Religion in the Age of the Intelligent Machine\nThis lecture aims to review and analyze the opportunities and challenges created by the artificial intelligence revolution in relation to the system of religious values. [Register here]\n \n \n 
LOCATION:
URL:http://events.qnl.qa/event/wJoMa
END:VEVENT
END:VCALENDAR
