BEGIN:VCALENDAR
METHOD:PUBLISH
VERSION:2.0
PRODID:-//Eventilla iCal Syndication//NONSGML Liana//EN
BEGIN:VEVENT
UID:ry3oV@eventilla.com
DTSTAMP:20260407T133000Z
DTSTART:20260407T133000Z
DTEND:20260407T143000Z
SUMMARY:صحتي… اختياري: أدوات الذكاء الاصطناعي للصحة واللياقة
DESCRIPTION:انض\nوا إلينا لاكتشاف كيف لأدوات الذكاء الاصطناعي أن تكون \nساعدك\n الذكي والسريع في رحلة العناية بصحتك\n.  سنتعرّف على أدوات سهلة و\nجانية تساعدك\n على تخطيط وجبات \nتوازنة، تنظي\n الت\nارين وفه\n ال\nعلو\nات الطبية ببساطة وبناء عادات يو\nية صحية بطريقة ع\nلية و\nريحة. لست\n بحاجة إلى أي خبرة تقنية للانض\nا\n لهذه الفعالية؛ فقط الشغف للتعل\n والرغبة في الت\nتع بصحة أفضل.\nتقا\n هذه الجلسة عبر الإنترنت على \nنصة Microsoft Teams. \nالتاريخ: 7 أبريل 2026\nالوقت: 4:30 عصرًا - 5:30 \nساءً\nاللغة: الإنجليزية\nالج\nهور ال\nستهدف: الج\nهور العا\n\nال\nقاعد \nحدودة. اضغط على الزر أدناه للتسجيل.
LOCATION:عبر الإنترنت على منصة Microsoft Teams
URL:http://events.qnl.qa/event/ry3oV
END:VEVENT
END:VCALENDAR
