BEGIN:VCALENDAR
METHOD:PUBLISH
VERSION:2.0
PRODID:-//Eventilla iCal Syndication//NONSGML Liana//EN
BEGIN:VEVENT
UID:ry0Md@eventilla.com
DTSTAMP:20260101T120000Z
DTSTART:20260101T120000Z
DTEND:20261231T150000Z
SUMMARY:Chess for All
DESCRIPTION:Did you know that chess improves memory and problem-solving skills\, and raises IQ? It is a fun and engaging way to improve focus\, think strategically and spark creativity. Join us for a weekly\, informal chess gathering at the Library open to all ages and skill levels! Whether you are a chess enthusiast or just curious to learn how to play\, come along to learn the basics\, meet fellow players and enjoy a little bit of competition. Chess sets will be provided. All you need to do is come\, join us!\nDate: Every Thursday of each week (except during Ramadan and official holidays) \nTime: 3:00 - 6:00 PM\nLanguage: Arabic and English\nTarget Audience: Public\nThis is an open event; RSVP is not required\n 
LOCATION:Main Plaza\, Qatar National Library\, Doha\, Qatar
URL:http://events.qnl.qa/event/ry0Md
END:VEVENT
END:VCALENDAR
