BEGIN:VCALENDAR
METHOD:PUBLISH
VERSION:2.0
PRODID:-//Eventilla iCal Syndication//NONSGML Liana//EN
BEGIN:VEVENT
UID:ry09v@eventilla.com
DTSTAMP:20260228T100000Z
DTSTART:20260228T100000Z
DTEND:20260228T120000Z
SUMMARY:CANCELED - Chat & Plant: Microgreens
DESCRIPTION:We invite plant lovers\, urban gardening enthusiasts\, and anyone interested in the environment and sustainability to join our monthly gathering. Whether you are a beginner\, experienced\, or eager to learn\, we meet on the last Saturday of each month at the Library to share knowledge\, exchange tips\, connect with others\, and take part in a variety of gardening activities.Amal Rihan\, a permaculture specialist and trainer in sustainable agriculture\, will deliver a workshop titled " Microgreens". The workshop aims to introduce participants to the fundamentals of growing microgreens\, provide an opportunity to exchange tips and experiences on using microgreens in Ramadan dishes\, and includes a practical\, hands-on planting activity.\nDate: 28 February 2026\nTime: 1:00 - 3:00 PM\nLanguage: Arabic and English\nTarget Audience: Public\nSeats are limited\, please click the button below to register.
LOCATION:Outside the main entrance of the Library
URL:http://events.qnl.qa/event/ry09v
END:VEVENT
END:VCALENDAR
