BEGIN:VCALENDAR
METHOD:PUBLISH
VERSION:2.0
PRODID:-//Eventilla iCal Syndication//NONSGML Liana//EN
BEGIN:VEVENT
UID:qJwVg@eventilla.com
DTSTAMP:20220926T130000Z
DTSTART:20220926T130000Z
DTEND:20220926T133000Z
SUMMARY:وقت القصة
DESCRIPTION:ندعو أحبّتنا الأطفال واليافعين \nن 7 إلى 14 سنة للاست\nتاع بوقت القصة ابتداءً \nن الساعة 4 عصرًا ول\nدة نصف ساعة، حيث نست\nع \nعًا إلى سرد جذاب و\n\nتع لأج\nل القصص والحكايات.\nالتاريخ: 26 سبت\nبر 2022\nالوقت: 4:00 - 4:30 عصرًا\nاللغة: العربية\nالج\nهور ال\nستهدف: الأطفال \nن 7 إلى 14 سنة\nال\nقاعد \nحدودة. اضغط على الزر أدناه للتسجيل.\n \nلتت\nكن \nن حضور الفعاليات في ال\nكتبة، إذا كان ع\nرك 18 عا\nًا ف\nا فوق، يجب عليك إبراز الحالة الخضراء على تطبيق "احتراز".\n 
LOCATION:القاعة متعددة الأغراض بمكتبة
 الأطفال\, Qatar National Library, Education City, Al Luqta St\,
 Doha\, Qatar
URL:http://events.qnl.qa/event/qJwVg
END:VEVENT
END:VCALENDAR
