BEGIN:VCALENDAR
METHOD:PUBLISH
VERSION:2.0
PRODID:-//Eventilla iCal Syndication//NONSGML Liana//EN
BEGIN:VEVENT
UID:qJgAW@eventilla.com
DTSTAMP:20220226T110000Z
DTSTART:20220226T110000Z
DTEND:20220226T120000Z
SUMMARY:HBKU Press Presents: Tips on Publishing Books in Qatar
DESCRIPTION:This presentation will give you advice on publishing with HBKU Press in Qatar and how to get editors' attention. If you are a writer seeking insights into the submission process and what editors are looking for\, this is your chance to find out more.\nThe event will be conducted online via Microsoft Teams. \nDate: 26 February 2022\nTime: 2:00 – 3:00 PM\nLanguage: English \nTarget Audience: General public \nSeats are limited\, please click the button below to register.
LOCATION:Online via Microsoft Teams
URL:http://events.qnl.qa/event/qJgAW
END:VEVENT
END:VCALENDAR
