BEGIN:VCALENDAR
METHOD:PUBLISH
VERSION:2.0
PRODID:-//Eventilla iCal Syndication//NONSGML Liana//EN
BEGIN:VEVENT
UID:pJq62@eventilla.com
DTSTAMP:20260226T110000Z
DTSTART:20260226T110000Z
DTEND:20260226T123000Z
SUMMARY:Sayahdeen (He Will Guide Me): The Story of Companion Salman Al-Farsi
DESCRIPTION:Join us to hear "The Story of Salman Al-Farsi\," part of the "Sayahdeen" series of Islamic programs. Designed to foster a sound and balanced understanding of Islam\, this series offers an opportunity to listen to content that combines authentic religious knowledge with core moral and ethical values.\nThe series draws its inspiration from the Holy Qur’an\, the Sunnah\, and the timeless narratives of the prophets and their companions.\nDate: 26 February 2026\nTime: 2:00 - 3:30 PM\nLanguage: Arabic\nTarget Audience: 7 - 14 years old\nSeats are limited\, please click the button below to register.
LOCATION:Heritage Library Presentation Room\, Qatar National Library\,
 Doha\, Qatar
URL:http://events.qnl.qa/event/pJq62
END:VEVENT
END:VCALENDAR
