BEGIN:VCALENDAR
METHOD:PUBLISH
VERSION:2.0
PRODID:-//Eventilla iCal Syndication//NONSGML Liana//EN
BEGIN:VEVENT
UID:pJo3a@eventilla.com
DTSTAMP:20251024T130000Z
DTSTART:20251024T130000Z
DTEND:20251024T163000Z
SUMMARY:Puppet Shows for children
DESCRIPTION:In this event\, captivating and diverse stories\, along with engaging puppet plays\, await our little loved ones and their families. Reserve your spot now! \nThis event is organized in collaboration with the Theater Affairs Center of the Ministry of Culture.\nDate: 24 October 2025\nTime: 4:00 - 7:30 PM \nLanguage: Arabic\nTarget Audience: Children and their Families\nThis is an open event; RSVP is not required
LOCATION:Special Events Area\, Qatar National Library\, Doha\, Qatar
URL:http://events.qnl.qa/event/pJo3a
END:VEVENT
END:VCALENDAR
