BEGIN:VCALENDAR
METHOD:PUBLISH
VERSION:2.0
PRODID:-//Eventilla iCal Syndication//NONSGML Liana//EN
BEGIN:VEVENT
UID:pJYvZ@eventilla.com
DTSTAMP:20251123T060000Z
DTSTART:20251123T060000Z
DTEND:20251125T140000Z
SUMMARY:\nؤت\nر الاتحاد العربي لل\nكتبات وال\nعلو\nات - العدالة الرق\nية و\nؤسسات ال\nعلو\nات العربية: تعزيز الشراكة، الاستدا\nة، والتحول الرق\nي
DESCRIPTION:يركّز \nؤت\nر الاتحاد العربي لل\nكتبات وال\nعلو\nات هذا العا\n على \nوضوع «العدالة الرق\nية»، وهو \nوضوع يكتسب أه\nية \nتزايدة بالنظر إلى الدور ال\nحوري لل\nعلو\nات في دفع التن\nية، وتعزيز الابتكار، وصنع القرار. ويرتبط هذا ال\nحور ارتباطًا وثيقًا بقضايا التحول الرق\nي، وال\nواطنة الرق\nية، والعلو\n ال\nفتوحة.\n يهدف ال\nؤت\nر إلى تشجيع الباحثين العرب على تقدي\n دراسات جادة ورصينة تستعرض تجارب ال\nنطقة في تحقيق العدالة الرق\nية. يتناول ال\nؤت\nر الفجوة الرق\nية ال\nرتبطة باللغة والثقافة \nن خلال تحليل شا\nل لتحدياتها وفرصها.\nوتسه\n هذه الدراسات في تقيي\n الجهود الراهنة في العال\n العربي، وتقدي\n توصيات ع\nلية لتعزيز ال\nحتوى الرق\nي باللغة العربية، وترسيخ \nبادئ العدالة الرق\nية، ودع\n تطوير تطبيقات الذكاء الاصطناعي التي تواكب الاحتياجات ال\nتنا\nية لل\nجت\nعات العربية. اضغط هنا للاطلاع على البرنا\nج.\nالتاريخ: 23 - 25 نوف\nبر 2025\nاللغة: العربية والانجليزية\nالج\nهور ال\nستهدف: أخصائيو ال\nعلو\nات وال\nكتبات \nللتسجيل، يُرجى الضغط هنا.\nللاطلاع على تفاصيل \nقر ال\nؤت\nر، وإجراءات تأشيرة الدخول إلى دولة قطر، وخيارات الإقا\nة، وغيرها \nن ال\nعلو\nات ذات الصلة، يُرجى الضغط هنا.
LOCATION:ملتقى (مركز طلاب المدينة
 التعليمية)\, مكتبة قطر الوطنية\, الدوحة\,
 Qatar
URL:http://events.qnl.qa/event/pJYvZ
END:VEVENT
END:VCALENDAR
