BEGIN:VCALENDAR
METHOD:PUBLISH
VERSION:2.0
PRODID:-//Eventilla iCal Syndication//NONSGML Liana//EN
BEGIN:VEVENT
UID:pJQrE@eventilla.com
DTSTAMP:20250508T140000Z
DTSTART:20250508T140000Z
DTEND:20250508T160000Z
SUMMARY:Digital Truth Seekers: A Workshop & Competition for Young Adults
DESCRIPTION:Have you ever come across a news story or an image on social media and felt unsure about its authenticity? Do you want to learn how to differentiate between truth and deception in a world overflowing with information? Join us for this exciting and valuable workshop and competition!\nWe’re here to help you develop the skills to identify fake news and images while equipping you with the tools to protect yourself and your community from misinformation. Plus\, put your skills to the test in our article competition\, where you can showcase what you’ve learned for a chance to win!\nDate: 8 May 2025 \nTime: 5:00 - 7:00 PM\nLanguage: English\nTarget Audience: Young adults\nSeats are limited\, please click the button below to register. 
LOCATION:Computer Lab\, Qatar National Library\, Doha\, Qatar
URL:http://events.qnl.qa/event/pJQrE
END:VEVENT
END:VCALENDAR
