BEGIN:VCALENDAR
METHOD:PUBLISH
VERSION:2.0
PRODID:-//Eventilla iCal Syndication//NONSGML Liana//EN
BEGIN:VEVENT
UID:opzR0@eventilla.com
DTSTAMP:20230405T120000Z
DTSTART:20230405T120000Z
DTEND:20230405T130000Z
SUMMARY:Book discussion: "Beautiful Names of God: Journey to the 7th Heaven"
DESCRIPTION:Join us in this book discussion where we present the most important themes covered in the book Beautiful Names of God: Journey to the Seventh Heaven\, by Ali bin Jaber Al-Fifi. We will reflect on the meanings of the different names of God and their relevance to our lives.\nThe book is available in the Library’s collection in print and electronic format.\nThe event will be conducted online via Microsoft Teams. \nDate: 5 April 2023 \nTime: 3:00 - 4:00 PM\nLanguage: Arabic \nTarget Audience: Public \nSeats are limited\, please click the button below to register.
LOCATION:Online via Microsoft Teams
URL:http://events.qnl.qa/event/opzR0
END:VEVENT
END:VCALENDAR
