BEGIN:VCALENDAR
METHOD:PUBLISH
VERSION:2.0
PRODID:-//Eventilla iCal Syndication//NONSGML Liana//EN
BEGIN:VEVENT
UID:opDll@eventilla.com
DTSTAMP:20220903T070000Z
DTSTART:20220903T070000Z
DTEND:20220924T120000Z
SUMMARY:Young Adults' Coding Camp
DESCRIPTION:Qatar National Library is organizing its second coding camp\, this time in collaboration with AdStep\, an EdTech start-up led by a group of engineers from Qatar University. The aim of the sessions is to equip young adults with technical skills\, so get ready for an exciting\, hands-on journey full of coding\, robotics\, gaming and design!\nSeptember 3 Young Adults Coding Camp: First SessionSeptember 10 Young Adults Coding Camp: Second SessionSeptember 17 Young Adults Coding Camp: Third SessionSeptember 24 Young Adults Coding Camp: Fourth Session\n \nDate: 3 to 24 September 2022\nTime: 10:00 AM - 3:00 PM\nLanguage: Arabic and English\nTarget Audience: Young adults 12 - 18 years \nSeats are limited\, please click the button below to register.\n \nIf you are 18 years old or above\, you must show a green Ehteraz to attend an event at the Library. 
LOCATION:Heritage Library Presentation Room\, Qatar National Library,
 Education City, Al Luqta St\, Doha\, Qatar
URL:http://events.qnl.qa/event/opDll
END:VEVENT
END:VCALENDAR
