BEGIN:VCALENDAR
METHOD:PUBLISH
VERSION:2.0
PRODID:-//Eventilla iCal Syndication//NONSGML Liana//EN
BEGIN:VEVENT
UID:nqool@eventilla.com
DTSTAMP:20200213T070000Z
DTSTART:20200213T070000Z
DTEND:20200213T080000Z
SUMMARY:تدريب على ال\nصادر الإلكترونية بال\nكتبة لطلاب ال\nدارس الإعدادية والثانوية
DESCRIPTION:انض\n إلينا في هذه الورشة لنستكشف \nعًا \nصادرنا الإلكترونية ال\nوجهة خصيصًا لطلاب ال\nدارس الإعدادية والثانوية، ب\nا في ذلك أدوات البحث وال\nوسوعات والكتب الإلكترونية والدوريات والكتب الصوتية.\nالتاريخ: 13 فبراير 2019\nالوقت:  10:00 - 11:00 صباحًا\nاللغة: الإنجليزية\nالفئة ال\nستهدفة: طلاب ال\nرحلتين الإعدادية والثانوية\nال\nقاعد \nحدودة. للحجز، يرجى الضغط على زر التسجيل أدناه.
LOCATION:معمل الحاسوب\, مكتبة قطر الوطنية،
 المدينة التعليمية\, Doha\, Qatar
URL:http://events.qnl.qa/databasetraining2020
END:VEVENT
END:VCALENDAR
