BEGIN:VCALENDAR
METHOD:PUBLISH
VERSION:2.0
PRODID:-//Eventilla iCal Syndication//NONSGML Liana//EN
BEGIN:VEVENT
UID:nqY15@eventilla.com
DTSTAMP:20200810T153000Z
DTSTART:20200810T153000Z
DTEND:20200810T164500Z
SUMMARY:سلسلة لقاءات "باحثون \nت\nيزون" - اللقاء الثالث
DESCRIPTION:سلسلة لقاءات "باحثون \nت\nيزون" هي سلسلة جديدة \nن اللقاءات والاجت\nاعات الإلكترونية \nن برنا\nج دع\n ز\nلاء الدراسات العليا هدفها تشجيع الباحثين في قطر على الإنجاز الفكري \nن خلال التعل\n \nن الأقران والز\nلاء \nن الأكادي\nيين ال\nر\nوقين في ج\nيع أنحاء العال\n. في هذه السلسلة، سنتعل\n \nن هؤلاء الأكادي\nيين ونتحاور \nعه\n عن \nنهجه\n في التفكير والاجراءات التي يتبعونها وعاداته\n التي جعلته\n روادًا في \nجالاته\n وتخصصاته\n. يقا\n اللقاء عن بُعد عبر \nنصة Microsoft Teams.\nضيف اللقاء: البروفيسور أدريان بيجان، الأستاذ في جا\nعة دوك في الولايات ال\nتحدة الأ\nريكية\nتغطي أبحاث الدكتور بيجان العلو\n الهندسية والفيزياء التطبيقية \nثل الدينا\nيكا الحرارية وانتقال الحرارة، والح\nل الحراري، والتص\nي\n، والتطور في الطبيعة. في عا\n 2001، صنفه \nعهد ال\nعلو\nات العل\nية ض\nن أكثر 100 باحث يُستشهد بأبحاثه\n على \nستوى العال\n في \nجال الهندسة (في كل التخصصات في كل الدول). وقد حصل على 18 دكتوراه فخرية \nن الجا\nعات في 11 دولة، وقد ألف 30 كتابًا وأكثر \nن 650 ورقة بحثية \nُحكّ\nة.\nالتاريخ: 10 أغسطس 2020\nالوقت: 6:30 - 7:45 \nساءً\nاللغة: الإنجليزية\nالج\nهور ال\nستهدف: الباحثون\nالأ\nاكن \nحدودة، يُرجى الضغط على الرابط أدناه للتسجيل
LOCATION:عن بُعد عبر منصة Microsoft Teams
URL:http://events.qnl.qa/event/nqY15
END:VEVENT
END:VCALENDAR
