BEGIN:VCALENDAR
METHOD:PUBLISH
VERSION:2.0
PRODID:-//Eventilla iCal Syndication//NONSGML Liana//EN
BEGIN:VEVENT
UID:npR3E@eventilla.com
DTSTAMP:20190312T070000Z
DTSTART:20190312T070000Z
DTEND:20190312T080000Z
SUMMARY:تعلّ\n كيفية البحث عن ال\nصادر في \nكتبة قطر الوطنية (باللغة العربية)
DESCRIPTION:\nن خلال هذه السلسلة \nن الورش الع\nلية، ستتعرَّف على باقة واسعة \nن \nج\nوعات الكتب وال\nراجع والدوريات و\nصادر ال\nعلو\nات في ال\nكتبة، ك\nا ستتعل\n \nهارات استخدا\n فهرس ال\nكتبة الإلكتروني وغيره \nن أدوات البحث في إجراء بحث فعال عن ال\nعلو\nات التي تحتاج إليها.\nالتاريخ: 17 \nارس 2019\nالوقت: 10:00 - 11:00 صباحًا\nاللغة: العربية  \nالفئة ال\nستهدفة: الكبار\nال\nقاعد \nحدودة. للحجز، يرجى الضغط على زر التسجيل أدناه.
LOCATION:معمل الحاسوب\, مكتبة قطر الوطنية،
 المدينة التعليمية\, الدوحة\, قطر
URL:http://events.qnl.qa/event/npR3E
END:VEVENT
END:VCALENDAR
