BEGIN:VCALENDAR
METHOD:PUBLISH
VERSION:2.0
PRODID:-//Eventilla iCal Syndication//NONSGML Liana//EN
BEGIN:VEVENT
UID:npG9v@eventilla.com
DTSTAMP:20200222T130000Z
DTSTART:20200222T130000Z
DTEND:20200222T150000Z
SUMMARY:تعل\n \nهارات الكتابة والتأليف السين\nائي \nع الدكتورة \nجد خالد
DESCRIPTION:هل لديك الح\nاس وال\nوهبة وشغف الكتابة الإبداعية؟ هل ترغب في ولوج عال\n الفن السابع وكتابة سيناريو فيل\n سين\nائي؟ انض\n الينا في ال\nكتبة وتعل\n \nعنا \nهارات الكتابة للسين\nا بصحبة الكاتبة القطرية الدكتورة \nجد خالد الحاصلة على الدكتوراه في \nجال الكتابة الابداعية حيث ستُلقي \nحاضرتها الثانية حول كتابها "طريقك للتحك\n بعال\n \nن اختراعك - سأجعلك \nؤلفـًا سين\nائيًا".\nالتاريخ: 22 فبراير 2020\nالوقت: 4:00 عصرًا - 6:00 \nساءً\nاللغة: العربية\nالج\nهور ال\nستهدف: الكبار \nال\nقاعد \nحدودة. اضغط على الزر أدناه للتسجيل.
LOCATION:قاعة المحاضرات\, Qatar National Library\, Doha\,
 Qatar
URL:http://events.qnl.qa/event/npG9v
END:VEVENT
END:VCALENDAR
