BEGIN:VCALENDAR
METHOD:PUBLISH
VERSION:2.0
PRODID:-//Eventilla iCal Syndication//NONSGML Liana//EN
BEGIN:VEVENT
UID:ngKB4@eventilla.com
DTSTAMP:20190314T060000Z
DTSTART:20190314T060000Z
DTEND:20190314T113000Z
SUMMARY:Fourth Library Association Forum
DESCRIPTION:The Library and Information Association in Qatar (LIA-Q) - Under Establishment\, cordially invites you to attend its Fourth Association Forum for Library Professionals in Qatar. This year’s forum is sponsored by Qatar National Library and UCL Qatar.\nDate: 14 March 2019\nTime: 9:00 AM – 2:30 PM\nLanguage: English\, with Arabic interpretation provided\nTarget Audience: Library professionals and those interested in libraries\nSeats are limited. To register\, please click the below button.
LOCATION:Special Events Area\, Qatar National Library, Education City\,
 Doha\, Qatar
URL:http://events.qnl.qa/event/ngKB4
END:VEVENT
END:VCALENDAR
