BEGIN:VCALENDAR
METHOD:PUBLISH
VERSION:2.0
PRODID:-//Eventilla iCal Syndication//NONSGML Liana//EN
BEGIN:VEVENT
UID:ngK9V@eventilla.com
DTSTAMP:20190221T100000Z
DTSTART:20190221T100000Z
DTEND:20190221T130000Z
SUMMARY:Researchers' Dialogue: A Sneak Peek at Research in Qatar
DESCRIPTION:In this casual three-hour structured discussion\, professors\, researchers and students will engage in a dialogue to exchange and share their experiences with doing research in Qatar.\nDate: 21 February 2019\nTime: 1:00 – 4:00 PM\nLanguage: English\nTarget Audience: Researchers\, professors and PhD students\nSeats are limited\, please click the button below to register.
LOCATION:Auditorium\, Qatar National Library, Education City\, Doha\,
 Qatar
URL:http://events.qnl.qa/event/ngK9V
END:VEVENT
END:VCALENDAR
