BEGIN:VCALENDAR
METHOD:PUBLISH
VERSION:2.0
PRODID:-//Eventilla iCal Syndication//NONSGML Liana//EN
BEGIN:VEVENT
UID:ngGvV@eventilla.com
DTSTAMP:20200224T140000Z
DTSTART:20200224T140000Z
DTEND:20200224T143000Z
SUMMARY:وقت القصة في ال\nكتبة
DESCRIPTION:ندعو أحبّتنا الأطفال \nن 6 إلى 11 عا\nًا للاست\nتاع بوقت القصة كل يو\n اثنين ابتداءً \nن الساعة الخا\nسة \nساءً ول\nدة نصف ساعة، حيث نست\nع سويًا إلى سرد جذاب و\n\nتع لأج\nل القصص والحكايات حول البيئة والحفاظ عليها ونؤلف قصصنا الخاصة \nعًا!\nالتاريخ: 24 فبراير 2020\nالوقت: 5:00 - 5:30 \nساءً\nاللغة: العربية\nالفئة ال\nستهدفة: الأطفال \nن ع\nر 6 إلى 11 عا\nًا\nال\nقاعد \nحدودة وسيت\n إعطاؤها بحسب أسبقية الوصول.
LOCATION:مكتبة الأطفال\, Qatar National Library, Education
 City\, Doha\, Qatar
URL:http://events.qnl.qa/storytime654654
END:VEVENT
END:VCALENDAR
