BEGIN:VCALENDAR
METHOD:PUBLISH
VERSION:2.0
PRODID:-//Eventilla iCal Syndication//NONSGML Liana//EN
BEGIN:VEVENT
UID:nXwZz@eventilla.com
DTSTAMP:20190420T070000Z
DTSTART:20190420T070000Z
DTEND:20190420T100000Z
SUMMARY:Express Yourself in the Theater
DESCRIPTION:This program helps young adults discover their artistic and creative side and solve their problems through dramatic exercises that help them think before expressing anger or joy.\nDate: 20 April 2019\nTime: 10:00 AM – 1:00 PM\nLanguage: Arabic\nTarget Audience: Young adults ages 15 – 18\nSeats are limited. To register\, please click the button below.
LOCATION:Auditorium
URL:http://events.qnl.qa/event/nXwZz
END:VEVENT
END:VCALENDAR
