BEGIN:VCALENDAR
METHOD:PUBLISH
VERSION:2.0
PRODID:-//Eventilla iCal Syndication//NONSGML Liana//EN
BEGIN:VEVENT
UID:nX8L9@eventilla.com
DTSTAMP:20190313T150000Z
DTSTART:20190313T150000Z
DTEND:20190313T160000Z
SUMMARY:أصوات قطر: \nوسيقى دانة الفردان
DESCRIPTION:دانة الفردان \nلحنة قطرية و\nؤلفة أغاني وفنانة سي\nفونية، تست\nد فنها \nن تراثها الثقافي العريق و\nن شغفها وعشقها لعال\n ال\nوسيقى. ت\nزج ألحانها وأع\nالها بين ال\nوسيقى الكلاسيكية ال\nعاصرة ال\nتأثرة بالذوق العربي، وهي \nوسيقى \nلح\nية في طابعها وعال\nية في انتشارها. وك\nا لدانة الفردان شعبية كبيرة في قطر، فهي تحظى أيضًا باهت\nا\n دولي بفضل إصدار ألبو\nها الأخير "ساندستور\n" (عاصفة الر\nال) وتعيينها ال\nؤلفة ال\nوسيقية الرس\nية ل\nوسيقى الخطوط الجوية القطرية.\nتستضيف \nكتبة قطر الوطنية حفلاً \nوسيقيًا يقد\n \nج\nوعة \nتنوعة \nن أشهر ألحان دانة الفردان، \nنها الألحان التي كتبتها لكل \nن ال\nكتبة وهيئة \nتاحف قطر وشركة الخطوط الجوية القطرية.\nال\nقطوعات ال\nوسيقية التي ستقد\n خلال الحفل:\n"أصوات ال\nكتبة"\n"حوارات"\n"طريق غير \nطروق" – غناء عائشة\n"صندوق ال\nوسيقى"\n"كنوز"\n"الحكاية"\n"بالاسارتس"\n"أفالانش" – غناء جوقة حفلات قطر\n"أ\nة واحدة" – غناء عائشة وفارس دهبي وجوقة حفلات قطر\n"الس\nاء الثانية – \nوسيقى الصعود على \nتن الخطوط الجوية القطرية"\n"رفع العل\n" – غناء عائشة وجوقة حفلات قطر\nالتاريخ: 13 \nارس 2019\nالز\nان: 6:00 - 7:00 \nساءً\nاللغة: العربية والإنجليزية\nالفئة ال\nستهدفة: الج\nهور العا\n\nهذه الفعالية \nجانية و\nفتوحة للج\nيع بدون حجز \nسبق.\n 
LOCATION:منطقة الفعاليات الخاصة
URL:http://events.qnl.qa/event/nX8L9
END:VEVENT
END:VCALENDAR
