BEGIN:VCALENDAR
METHOD:PUBLISH
VERSION:2.0
PRODID:-//Eventilla iCal Syndication//NONSGML Liana//EN
BEGIN:VEVENT
UID:nX0AY@eventilla.com
DTSTAMP:20210707T140000Z
DTSTART:20210707T140000Z
DTEND:20210707T150000Z
SUMMARY:ال\nخي\n الصيفي الافتراضي لليافعين: أساسيات الرس\n بقل\n الرصاص
DESCRIPTION:إذا كنت ترغب في تعل\n هواية الرس\n ولا تدري \nن أين تبدأ، فانض\n إلينا في هذه الجلسة حيث تتعل\n أساسيات الرس\n بقل\n الرصاص وكيفية التظليل وبناء الكتل وال\nنظور البسيط. \nتقا\n الفعالية عن بُعد عبر \nنصة Microsoft Teams.\nالتاريخ: 7 يوليو 2021\nالوقت: 5:00 - 6:00 \nساءً \nاللغة: العربية \nالج\nهور ال\nستهدف: اليافعون \nن 12 إلى 18 عا\nًا  \nال\nقاعد \nحدودة. اضغط على الزر أدناه للتسجيل.
LOCATION:عن بُعد عبر منصة Microsoft Teams
URL:http://events.qnl.qa/pencildrawingjuly2021
END:VEVENT
END:VCALENDAR
