BEGIN:VCALENDAR
METHOD:PUBLISH
VERSION:2.0
PRODID:-//Eventilla iCal Syndication//NONSGML Liana//EN
BEGIN:VEVENT
UID:nVQqX@eventilla.com
DTSTAMP:20190313T140000Z
DTSTART:20190313T140000Z
DTEND:20190313T150000Z
SUMMARY:Learn How to Search and Locate Library Resources (English)
DESCRIPTION:We will introduce the wide range of collections and types of information sources available to you as a member of the Library. You’ll learn how to use the Library catalog through hands-on activities\, and we’ll also help you familiarize yourself with various search tools.\nDate: 13 March 2019\nTime: 5:00 – 6:00 PM\nLanguage: English\nTarget Audience: Adults\nSeats are limited. To register\, please click the button below.
LOCATION:Computer Lab\, Qatar National Library, Education City\, Doha\,
 Qatar
URL:http://events.qnl.qa/event/nVQqX
END:VEVENT
END:VCALENDAR
