BEGIN:VCALENDAR
METHOD:PUBLISH
VERSION:2.0
PRODID:-//Eventilla iCal Syndication//NONSGML Liana//EN
BEGIN:VEVENT
UID:nANNQ@eventilla.com
DTSTAMP:20200210T133000Z
DTSTART:20200210T133000Z
DTEND:20200210T150000Z
SUMMARY:Building Challenge With Cubes
DESCRIPTION:If you like to build\, join us for a fun activity where you can put your creative skills to work as you build imaginative objects using cubes.\nDate: 10 February 2020\nTime: 4:30 – 6:00 PM\nLanguage: English \nTarget Audience: Young adults ages 12 – 18\n This is an open event; RSVP is not required. 
LOCATION:Young Adults' Area\, Qatar National Library, Education City\,
 Doha\, Qatar
URL:http://events.qnl.qa/buildlegofeb2020
END:VEVENT
END:VCALENDAR
