BEGIN:VCALENDAR
METHOD:PUBLISH
VERSION:2.0
PRODID:-//Eventilla iCal Syndication//NONSGML Liana//EN
BEGIN:VEVENT
UID:n83ZL@eventilla.com
DTSTAMP:20210926T150000Z
DTSTART:20210926T150000Z
DTEND:20210926T160000Z
SUMMARY:Research and Library Resources
DESCRIPTION:This training session for students of Lusail University will present all the resources that the Library offers and cover studying and researching needs\, as well as some research tips.\nThe event will be conducted online via Microsoft Teams.\nDate: 26 September 2021\nTime: 6:00 – 7:00 PM\nLanguage: Arabic\nTarget Audience: Lusail University students only\nSeats are limited\, please click the button below to register.
LOCATION:Online via Microsoft Teams
URL:http://events.qnl.qa/event/n83ZL
END:VEVENT
END:VCALENDAR
