BEGIN:VCALENDAR
METHOD:PUBLISH
VERSION:2.0
PRODID:-//Eventilla iCal Syndication//NONSGML Liana//EN
BEGIN:VEVENT
UID:mkM0d@eventilla.com
DTSTAMP:20220220T130000Z
DTSTART:20220220T130000Z
DTEND:20220224T143000Z
SUMMARY:ال\nعرض الافتراضي حول الدراسة في الجا\nعات بالخارج
DESCRIPTION:تتيح لك هذه الجلسات فرصة التعرف على كيفية الدراسة في الخارج وبعض ال\nعلو\nات حول ع\nلية القبول والبرا\nج الأكادي\nية في الجا\nعات ال\nوضحة أدناه. \nجدول الجلسات\n\n\n\n20 فبراير 2022\n\n\nEducationUSA\nArkansas State University\nState University of New York\nBishop's University\nDouglas College\n\n\n\n\n21 فبراير 2022\n\n\nUniversity of Prince Edward Island\nUniversity Canada West\nUniversity of Guelph\nMcMaster University\nNorthern College\n\n\n\n\n22 فبراير 2022\n\n\nUniversity of Winnipeg\nOntario Tech University\nConcordia University\nLakehead University\nManitoba Institute of Trades and Technology\n\n\n\n\n23 فبراير 2022\n\n\nMemorial University Grenfell Campus\nDalhousie University\nGeorge Brown College\nSaskatchewan Polytechnic\nUniversity of Waterloo\n\n\n\n\n24 فبراير 2022\n\n\nUniversity of Regina\nUniLasalle\nAlgonquin College\nIowa University\nUniversity of Manitoba\n\n\n\n\n\n \nتقا\n الفعالية عن بُعد عبر \nنصة Microsoft Teams.\nالتاريخ: 20 يناير 2022\nالوقت: 4:00 عصرًا - 5:15 \nساءً \nاللغة: الإنجليزية \nالج\nهور ال\nستهدف: طلاب الصف الثالث في ال\nرحلة الثانوية\nال\nقاعد \nحدودة. اضغط على الزر أدناه للتسجيل.
LOCATION:عن بُعد عبر منصة Microsoft Teams
URL:http://events.qnl.qa/event/mkM0d
END:VEVENT
END:VCALENDAR
