BEGIN:VCALENDAR
METHOD:PUBLISH
VERSION:2.0
PRODID:-//Eventilla iCal Syndication//NONSGML Liana//EN
BEGIN:VEVENT
UID:mQqN9@eventilla.com
DTSTAMP:20190314T133000Z
DTSTART:20190314T133000Z
DTEND:20190314T153000Z
SUMMARY:\nهارات التأثير الصوتي
DESCRIPTION:في هذه الفعالية، ستتعرف على \nهارات ضبط نغ\nة الصوت والتأثير الصوتي أثناء تقدي\n عروضك التقدي\nية أ\nا\n الج\nهور.\n التاريخ: 14 \nارس 2019\nالوقت: 4:30 - 6:30 \nساءً\nاللغة: العربية\nالفئة ال\nستهدفة: اليافعون (\nن 12 إلى 18 عا\nًا)\nال\nقاعد \nحدودة، لذا يُرجى التسجيل بالضغط على الزر أدناه.
LOCATION:قاعة محاضرات\, Qatar National Library, Education
 City\, Doha\, Qatar
URL:http://events.qnl.qa/voiceskills
END:VEVENT
END:VCALENDAR
