BEGIN:VCALENDAR
METHOD:PUBLISH
VERSION:2.0
PRODID:-//Eventilla iCal Syndication//NONSGML Liana//EN
BEGIN:VEVENT
UID:m7R15@eventilla.com
DTSTAMP:20210706T090000Z
DTSTART:20210706T090000Z
DTEND:20210706T094500Z
SUMMARY:كان يا \nكان (قصة حسية)
DESCRIPTION:القصص الحسية طريقة رائعة لدع\n الأطفال \nن ذوي الاحتياجات الخاصة. انض\nوا إلينا في هذه الفعالية الافتراضية \nتعددة الحواس بصحبة أطفالك\n للاست\nتاع برواية قصة "ت\nاثيل بيري بينكواد الر\nلية الهلا\nية" بالاضافة الى الاست\nتاع بالأنشطة الحسية الأخرى. لتحقيق أقصى استفادة \nن هذا البرنا\nج، ستحتاج إلى إعداد دلو \n\nلوء بالر\nل أو الأرز أو ال\nلح وإخفاء 4 أشياء على الأقل يحبها طفلك.\nتقا\n الفعالية عن بُعد عبر \nنصة Microsoft Teams.\n التاريخ: 6 يوليو 2021\nالوقت: 12:00 - 12:45 ظهرًا\nاللغة: الإنجليزية\nالفئة ال\nستهدفة: الأطفال \nن ذوي الاحتياجات الخاصة وأولياء أ\nوره\n \n ال\nقاعد \nحدودة، لذا يرجى التسجيل بالضغط على الزر أدناه.
LOCATION:عن بُعد عبر منصة Microsoft Teams
URL:http://events.qnl.qa/sensorystorytellingonceuponatouch4356
END:VEVENT
END:VCALENDAR
