BEGIN:VCALENDAR
METHOD:PUBLISH
VERSION:2.0
PRODID:-//Eventilla iCal Syndication//NONSGML Liana//EN
BEGIN:VEVENT
UID:m75Wd@eventilla.com
DTSTAMP:20200213T130000Z
DTSTART:20200213T130000Z
DTEND:20200213T150000Z
SUMMARY:ورشة ال\nوسيقى العربية \nع أكادي\nية قطر لل\nوسيقى: \nقد\nة عن الك\nان
DESCRIPTION:هل أنت \nهت\n باستكشاف آلة الك\nان؟ تقد\n \nكتبة قطر الوطنية بالتعاون \nع أكادي\nية قطر لل\nوسيقى سلسلة \nن الورش حول ثلاث آلات عربية \nوسيقية \nختلفة في شهري يناير وفبراير 2020.\nخلال هذه الجلسة، يقد\n أحد \nعل\nي أكادي\nية قطر لل\nوسيقى \nقد\nة تعريفية حول آلة الك\nان. وسيكون ب\nقدور ال\nشاركين في الورشة استخدا\n الك\nان والتعرف على أجزائه ال\nختلفة والصوت الناتج عنها.\nهذه الورشة \nناسبة لل\nبتدئين ولا يُشترط وجود خبرة سابقة في استخدا\n الآلات ال\nوسيقية. وستوفر ال\nكتبة اللآلات ال\nوسيقية اللاز\nة للورشة.\nالتاريخ: 13 فبراير 2020\nالوقت: 4:00 عصرًا - 6:00 \nساءً\nاللغة: الإنجليزية \nالج\nهور ال\nستهدف: الأطفال (7 - 10 سنوات)\nال\nقاعد \nحدودة. اضغط على الزر أدناه للتسجيل.
LOCATION:محطة الإبداع 2
URL:http://events.qnl.qa/event/m75Wd
END:VEVENT
END:VCALENDAR
